BEGIN:VCALENDAR
VERSION:2.0
PRODID:-//Club 50plus Noorden | Gezelligheid voor iedereen vanaf 50 jaar - ECPv6.15.20//NONSGML v1.0//EN
CALSCALE:GREGORIAN
METHOD:PUBLISH
X-ORIGINAL-URL:https://club50plusnoorden.nl
X-WR-CALDESC:Evenementen voor Club 50plus Noorden | Gezelligheid voor iedereen vanaf 50 jaar
REFRESH-INTERVAL;VALUE=DURATION:PT1H
X-Robots-Tag:noindex
X-PUBLISHED-TTL:PT1H
BEGIN:VTIMEZONE
TZID:Europe/Amsterdam
BEGIN:DAYLIGHT
TZOFFSETFROM:+0100
TZOFFSETTO:+0200
TZNAME:CEST
DTSTART:20250330T010000
END:DAYLIGHT
BEGIN:STANDARD
TZOFFSETFROM:+0200
TZOFFSETTO:+0100
TZNAME:CET
DTSTART:20251026T010000
END:STANDARD
BEGIN:DAYLIGHT
TZOFFSETFROM:+0100
TZOFFSETTO:+0200
TZNAME:CEST
DTSTART:20260329T010000
END:DAYLIGHT
BEGIN:STANDARD
TZOFFSETFROM:+0200
TZOFFSETTO:+0100
TZNAME:CET
DTSTART:20261025T010000
END:STANDARD
BEGIN:DAYLIGHT
TZOFFSETFROM:+0100
TZOFFSETTO:+0200
TZNAME:CEST
DTSTART:20270328T010000
END:DAYLIGHT
BEGIN:STANDARD
TZOFFSETFROM:+0200
TZOFFSETTO:+0100
TZNAME:CET
DTSTART:20271031T010000
END:STANDARD
END:VTIMEZONE
BEGIN:VEVENT
DTSTART;TZID=Europe/Amsterdam:20260331T193000
DTEND;TZID=Europe/Amsterdam:20260331T223000
DTSTAMP:20260422T195055
CREATED:20251208T181634Z
LAST-MODIFIED:20251209T183150Z
UID:10001111-1774985400-1774996200@club50plusnoorden.nl
SUMMARY:Keezen
DESCRIPTION:Iedere laatste dinsdagavond van de maand wordt er een Keezen-spelavond gehouden.\nInloop is vanaf 19:15 uur en het spel start om 19:30 uur.\nKosten: € 2\,00 inclusief 2 kopjes koffie of thee.\nDe organisatie is in handen van Anneke Kentrop (tel. 06-2383 3676) en Ria de Jong.
URL:https://club50plusnoorden.nl/event/keezen-3/
LOCATION:De Rietzanger\, Theresiahof 9\, Noorden\, 2431AD
CATEGORIES:Activiteiten
END:VEVENT
END:VCALENDAR