BEGIN:VCALENDAR
VERSION:2.0
PRODID:-//Club 50plus Noorden | Gezelligheid voor iedereen vanaf 50 jaar - ECPv6.15.20//NONSGML v1.0//EN
CALSCALE:GREGORIAN
METHOD:PUBLISH
X-ORIGINAL-URL:https://club50plusnoorden.nl
X-WR-CALDESC:Evenementen voor Club 50plus Noorden | Gezelligheid voor iedereen vanaf 50 jaar
REFRESH-INTERVAL;VALUE=DURATION:PT1H
X-Robots-Tag:noindex
X-PUBLISHED-TTL:PT1H
BEGIN:VTIMEZONE
TZID:Europe/Amsterdam
BEGIN:DAYLIGHT
TZOFFSETFROM:+0100
TZOFFSETTO:+0200
TZNAME:CEST
DTSTART:20250330T010000
END:DAYLIGHT
BEGIN:STANDARD
TZOFFSETFROM:+0200
TZOFFSETTO:+0100
TZNAME:CET
DTSTART:20251026T010000
END:STANDARD
BEGIN:DAYLIGHT
TZOFFSETFROM:+0100
TZOFFSETTO:+0200
TZNAME:CEST
DTSTART:20260329T010000
END:DAYLIGHT
BEGIN:STANDARD
TZOFFSETFROM:+0200
TZOFFSETTO:+0100
TZNAME:CET
DTSTART:20261025T010000
END:STANDARD
BEGIN:DAYLIGHT
TZOFFSETFROM:+0100
TZOFFSETTO:+0200
TZNAME:CEST
DTSTART:20270328T010000
END:DAYLIGHT
BEGIN:STANDARD
TZOFFSETFROM:+0200
TZOFFSETTO:+0100
TZNAME:CET
DTSTART:20271031T010000
END:STANDARD
END:VTIMEZONE
BEGIN:VEVENT
DTSTART;TZID=Europe/Amsterdam:20260413T193000
DTEND;TZID=Europe/Amsterdam:20260413T223000
DTSTAMP:20260423T013135
CREATED:20251208T180337Z
LAST-MODIFIED:20251209T182816Z
UID:10001092-1776108600-1776119400@club50plusnoorden.nl
SUMMARY:Klaverjassen
DESCRIPTION:U kunt om de week klaverjassen.\nKosten: € 2\,50 per keer\, incl. 2 kopjes koffie of thee en een hapje.\nVoor inlichtingen kunt u terecht bij: Thea Pietersen\, tel: 0172-408536
URL:https://club50plusnoorden.nl/event/klaverjassen-10/
LOCATION:De Rietzanger\, Theresiahof 9\, Noorden\, 2431AD
CATEGORIES:Activiteiten
END:VEVENT
BEGIN:VEVENT
DTSTART;TZID=Europe/Amsterdam:20260415T093000
DTEND;TZID=Europe/Amsterdam:20260415T123000
DTSTAMP:20260423T013135
CREATED:20251208T181054Z
LAST-MODIFIED:20251209T183047Z
UID:10001102-1776245400-1776256200@club50plusnoorden.nl
SUMMARY:Fietstocht
DESCRIPTION:Van maart tot en met oktober wordt er elke 3e woensdag van de maand een fietstocht georganiseerd.\nVertrek om 9.30 uur vanaf het plein tegenover de kerk. De route is iedere keer een verrassing.\nDe kosten zijn € 0\,50 per keer.\nDe organisatie is in handen van Joop Leliveld (tel. 06-1781-6048) en Ton Groeneveld. Bij slecht weer gaat de fietstocht niet door.
URL:https://club50plusnoorden.nl/event/fietstocht-2/
LOCATION:Plein tegenover de kerk\, Simon van Capelweg 109C\, Noorden\, 2431AE\, Nederland
CATEGORIES:Activiteiten,Fietsen
END:VEVENT
BEGIN:VEVENT
DTSTART;TZID=Europe/Amsterdam:20260415T140000
DTEND;TZID=Europe/Amsterdam:20260415T160000
DTSTAMP:20260423T013135
CREATED:20251120T100509Z
LAST-MODIFIED:20251209T182716Z
UID:10000973-1776261600-1776268800@club50plusnoorden.nl
SUMMARY:Bingo
DESCRIPTION:Een keer per maand wordt op woensdagmiddag bingo georganiseerd. Er worden 8 ronden bingo gespeeld. Kosten: 1 plankje: € 4.00 inclusief 2x koffie of thee.\nExtra plankje € 3\,00 per stuk. De bingomiddagen worden georganiseerd door Lia de Groot en Yvonne van Dijk.
URL:https://club50plusnoorden.nl/event/bingo-15/
LOCATION:De Rietzanger\, Theresiahof 9\, Noorden\, 2431AD
CATEGORIES:Activiteiten,Bingo
END:VEVENT
BEGIN:VEVENT
DTSTART;TZID=Europe/Amsterdam:20260418T140000
DTEND;TZID=Europe/Amsterdam:20260418T200000
DTSTAMP:20260423T013135
CREATED:20251208T191036Z
LAST-MODIFIED:20260415T171153Z
UID:10001131-1776520800-1776542400@club50plusnoorden.nl
SUMMARY:Vrijwilligersmiddag
DESCRIPTION:Ook in 2026 willen we graag onze vrijwilligers bedanken voor hun inzet. Daarom organiseren we vandaag een vrijwilligersmiddag. \nDe vrijwilligers krijgen tijdig een uitnodiging voor deze bijzonder gezellige middag.
URL:https://club50plusnoorden.nl/event/vrijwilligersmiddag-2/
LOCATION:De Rietzanger\, Theresiahof 9\, Noorden\, 2431AD
CATEGORIES:Activiteiten
END:VEVENT
BEGIN:VEVENT
DTSTART;TZID=Europe/Amsterdam:20260421T200000
DTEND;TZID=Europe/Amsterdam:20260421T223000
DTSTAMP:20260423T013135
CREATED:20251208T192150Z
LAST-MODIFIED:20260116T130058Z
UID:10001138-1776801600-1776810600@club50plusnoorden.nl
SUMMARY:KVN
DESCRIPTION:KVN is de Katholieke Vrouwenvereniging Noorden.\nEenmaal per maand is er een bijeenkomst met een leuke\, interessante en vooral gezellige activiteit.\nVoordat je besluit lid te worden\, mag je eerst vrijblijvend een paar avonden komen kijken.\nVoor meer informatie kan contact worden opgenomen met kvnnoorden@hotmail.com of geef ons een belletje.
URL:https://club50plusnoorden.nl/event/kvn-4/
LOCATION:De Rietzanger\, Theresiahof 9\, Noorden\, 2431AD
CATEGORIES:Activiteiten,KVN
END:VEVENT
BEGIN:VEVENT
DTSTART;TZID=Europe/Amsterdam:20260424T090000
DTEND;TZID=Europe/Amsterdam:20260424T123000
DTSTAMP:20260423T013135
CREATED:20251208T190158Z
LAST-MODIFIED:20251209T183553Z
UID:10001126-1777021200-1777033800@club50plusnoorden.nl
SUMMARY:Themaochtend
DESCRIPTION:Viermaal per jaar wordt er een thema-ochtend georganiseerd.\nDe ochtend start om 9.00 met een eucharistieviering voor belangstellenden.\nRond 9.45 uur start het variabele gedeelte. Dit kan een informatiebijeenkomst zijn met een maatschappelijk thema of gewoon een gezellige activiteit.\nOm 12.00 uur is er – tegen een vergoeding – een gezamenlijke lunch.
URL:https://club50plusnoorden.nl/event/themaochtend-2/
LOCATION:De Rietzanger\, Theresiahof 9\, Noorden\, 2431AD
CATEGORIES:Activiteiten
END:VEVENT
BEGIN:VEVENT
DTSTART;TZID=Europe/Amsterdam:20260428T193000
DTEND;TZID=Europe/Amsterdam:20260428T223000
DTSTAMP:20260423T013135
CREATED:20251208T181654Z
LAST-MODIFIED:20251209T183150Z
UID:10001112-1777404600-1777415400@club50plusnoorden.nl
SUMMARY:Keezen
DESCRIPTION:Iedere laatste dinsdagavond van de maand wordt er een Keezen-spelavond gehouden.\nInloop is vanaf 19:15 uur en het spel start om 19:30 uur.\nKosten: € 2\,00 inclusief 2 kopjes koffie of thee.\nDe organisatie is in handen van Anneke Kentrop (tel. 06-2383 3676) en Ria de Jong.
URL:https://club50plusnoorden.nl/event/keezen-4/
LOCATION:De Rietzanger\, Theresiahof 9\, Noorden\, 2431AD
CATEGORIES:Activiteiten
END:VEVENT
BEGIN:VEVENT
DTSTART;TZID=Europe/Amsterdam:20260506T133000
DTEND;TZID=Europe/Amsterdam:20260506T153000
DTSTAMP:20260423T013135
CREATED:20251208T190803Z
LAST-MODIFIED:20251208T190803Z
UID:10001130-1778074200-1778081400@club50plusnoorden.nl
SUMMARY:Algemene Leden Vergadering
DESCRIPTION:Tijdens de vergadering worden voorstellen van het bestuur aan de leden voorgelegd\, de financiële resultaten van 2025 worden toegelicht en de bestuursverkiezingen worden gehouden.\nWij stellen het op prijs als u die middag vragen of suggesties wilt voorleggen aan het bestuur.\nDe financiële resultaten van 2025\, het jaarverslag met alle bijzonderheden van het afgelopen jaar en de notulen van de jaarvergadering van 2025 liggen 10 dagen van tevoren ter inzage in de Rietzanger.\nNa afloop van de jaarvergadering is er nog een gezellige afsluiting met voor ieder wat wils. U komt toch ook?
URL:https://club50plusnoorden.nl/event/algemene-leden-vergadering/
LOCATION:De Rietzanger\, Theresiahof 9\, Noorden\, 2431AD
END:VEVENT
BEGIN:VEVENT
DTSTART;TZID=Europe/Amsterdam:20260513T140000
DTEND;TZID=Europe/Amsterdam:20260513T160000
DTSTAMP:20260423T013135
CREATED:20251120T095906Z
LAST-MODIFIED:20251209T182716Z
UID:10000974-1778680800-1778688000@club50plusnoorden.nl
SUMMARY:Bingo
DESCRIPTION:Een keer per maand wordt op woensdagmiddag bingo georganiseerd. Er worden 8 ronden bingo gespeeld. Kosten: 1 plankje: € 4.00 inclusief 2x koffie of thee.\nExtra plankje € 3\,00 per stuk. De bingomiddagen worden georganiseerd door Lia de Groot en Yvonne van Dijk.
URL:https://club50plusnoorden.nl/event/bingo-16/
LOCATION:De Rietzanger\, Theresiahof 9\, Noorden\, 2431AD
CATEGORIES:Activiteiten,Bingo
END:VEVENT
BEGIN:VEVENT
DTSTART;TZID=Europe/Amsterdam:20260519T200000
DTEND;TZID=Europe/Amsterdam:20260519T223000
DTSTAMP:20260423T013135
CREATED:20251208T192214Z
LAST-MODIFIED:20260116T130039Z
UID:10001139-1779220800-1779229800@club50plusnoorden.nl
SUMMARY:KVN
DESCRIPTION:KVN is de Katholieke Vrouwenvereniging Noorden.\nEenmaal per maand is er een bijeenkomst met een leuke\, interessante en vooral gezellige activiteit.\nVoordat je besluit lid te worden\, mag je eerst vrijblijvend een paar avonden komen kijken.\nVoor meer informatie kan contact worden opgenomen met kvnnoorden@hotmail.com of geef ons een belletje.
URL:https://club50plusnoorden.nl/event/kvn-5/
LOCATION:De Rietzanger\, Theresiahof 9\, Noorden\, 2431AD
CATEGORIES:Activiteiten,KVN
END:VEVENT
BEGIN:VEVENT
DTSTART;TZID=Europe/Amsterdam:20260520T093000
DTEND;TZID=Europe/Amsterdam:20260520T123000
DTSTAMP:20260423T013135
CREATED:20251208T181205Z
LAST-MODIFIED:20251209T183047Z
UID:10001103-1779269400-1779280200@club50plusnoorden.nl
SUMMARY:Fietstocht
DESCRIPTION:Van maart tot en met oktober wordt er elke 3e woensdag van de maand een fietstocht georganiseerd.\nVertrek om 9.30 uur vanaf het plein tegenover de kerk. De route is iedere keer een verrassing.\nDe kosten zijn € 0\,50 per keer.\nDe organisatie is in handen van Joop Leliveld (tel. 06-1781-6048) en Ton Groeneveld. Bij slecht weer gaat de fietstocht niet door.
URL:https://club50plusnoorden.nl/event/fietstocht-3/
LOCATION:Plein tegenover de kerk\, Simon van Capelweg 109C\, Noorden\, 2431AE\, Nederland
CATEGORIES:Activiteiten,Fietsen
END:VEVENT
BEGIN:VEVENT
DTSTART;TZID=Europe/Amsterdam:20260526T193000
DTEND;TZID=Europe/Amsterdam:20260526T223000
DTSTAMP:20260423T013135
CREATED:20251208T181713Z
LAST-MODIFIED:20251209T183150Z
UID:10001113-1779823800-1779834600@club50plusnoorden.nl
SUMMARY:Keezen
DESCRIPTION:Iedere laatste dinsdagavond van de maand wordt er een Keezen-spelavond gehouden.\nInloop is vanaf 19:15 uur en het spel start om 19:30 uur.\nKosten: € 2\,00 inclusief 2 kopjes koffie of thee.\nDe organisatie is in handen van Anneke Kentrop (tel. 06-2383 3676) en Ria de Jong.
URL:https://club50plusnoorden.nl/event/keezen-5/
LOCATION:De Rietzanger\, Theresiahof 9\, Noorden\, 2431AD
CATEGORIES:Activiteiten
END:VEVENT
BEGIN:VEVENT
DTSTART;TZID=Europe/Amsterdam:20260616T200000
DTEND;TZID=Europe/Amsterdam:20260616T223000
DTSTAMP:20260423T013135
CREATED:20251208T192236Z
LAST-MODIFIED:20260116T130014Z
UID:10001140-1781640000-1781649000@club50plusnoorden.nl
SUMMARY:KVN
DESCRIPTION:KVN is de Katholieke Vrouwenvereniging Noorden.\nEenmaal per maand is er een bijeenkomst met een leuke\, interessante en vooral gezellige activiteit.\nVoordat je besluit lid te worden\, mag je eerst vrijblijvend een paar avonden komen kijken.\nVoor meer informatie kan contact worden opgenomen met kvnnoorden@hotmail.com of geef ons een belletje.
URL:https://club50plusnoorden.nl/event/kvn-6/
LOCATION:De Rietzanger\, Theresiahof 9\, Noorden\, 2431AD
CATEGORIES:Activiteiten,KVN
END:VEVENT
BEGIN:VEVENT
DTSTART;TZID=Europe/Amsterdam:20260617T093000
DTEND;TZID=Europe/Amsterdam:20260617T123000
DTSTAMP:20260423T013135
CREATED:20251208T181223Z
LAST-MODIFIED:20251209T183047Z
UID:10001104-1781688600-1781699400@club50plusnoorden.nl
SUMMARY:Fietstocht
DESCRIPTION:Van maart tot en met oktober wordt er elke 3e woensdag van de maand een fietstocht georganiseerd.\nVertrek om 9.30 uur vanaf het plein tegenover de kerk. De route is iedere keer een verrassing.\nDe kosten zijn € 0\,50 per keer.\nDe organisatie is in handen van Joop Leliveld (tel. 06-1781-6048) en Ton Groeneveld. Bij slecht weer gaat de fietstocht niet door.
URL:https://club50plusnoorden.nl/event/fietstocht-4/
LOCATION:Plein tegenover de kerk\, Simon van Capelweg 109C\, Noorden\, 2431AE\, Nederland
CATEGORIES:Activiteiten,Fietsen
END:VEVENT
BEGIN:VEVENT
DTSTART;TZID=Europe/Amsterdam:20260617T140000
DTEND;TZID=Europe/Amsterdam:20260617T160000
DTSTAMP:20260423T013135
CREATED:20251120T095935Z
LAST-MODIFIED:20251209T182716Z
UID:10000975-1781704800-1781712000@club50plusnoorden.nl
SUMMARY:Bingo
DESCRIPTION:Een keer per maand wordt op woensdagmiddag bingo georganiseerd. Er worden 8 ronden bingo gespeeld. Kosten: 1 plankje: € 4.00 inclusief 2x koffie of thee.\nExtra plankje € 3\,00 per stuk. De bingomiddagen worden georganiseerd door Lia de Groot en Yvonne van Dijk.
URL:https://club50plusnoorden.nl/event/bingo-17/
LOCATION:De Rietzanger\, Theresiahof 9\, Noorden\, 2431AD
CATEGORIES:Activiteiten,Bingo
END:VEVENT
BEGIN:VEVENT
DTSTART;TZID=Europe/Amsterdam:20260630T193000
DTEND;TZID=Europe/Amsterdam:20260630T223000
DTSTAMP:20260423T013135
CREATED:20251208T181731Z
LAST-MODIFIED:20251209T183150Z
UID:10001114-1782847800-1782858600@club50plusnoorden.nl
SUMMARY:Keezen
DESCRIPTION:Iedere laatste dinsdagavond van de maand wordt er een Keezen-spelavond gehouden.\nInloop is vanaf 19:15 uur en het spel start om 19:30 uur.\nKosten: € 2\,00 inclusief 2 kopjes koffie of thee.\nDe organisatie is in handen van Anneke Kentrop (tel. 06-2383 3676) en Ria de Jong.
URL:https://club50plusnoorden.nl/event/keezen-6/
LOCATION:De Rietzanger\, Theresiahof 9\, Noorden\, 2431AD
CATEGORIES:Activiteiten
END:VEVENT
BEGIN:VEVENT
DTSTART;TZID=Europe/Amsterdam:20260715T093000
DTEND;TZID=Europe/Amsterdam:20260715T123000
DTSTAMP:20260423T013135
CREATED:20251208T181238Z
LAST-MODIFIED:20251209T183047Z
UID:10001105-1784107800-1784118600@club50plusnoorden.nl
SUMMARY:Fietstocht
DESCRIPTION:Van maart tot en met oktober wordt er elke 3e woensdag van de maand een fietstocht georganiseerd.\nVertrek om 9.30 uur vanaf het plein tegenover de kerk. De route is iedere keer een verrassing.\nDe kosten zijn € 0\,50 per keer.\nDe organisatie is in handen van Joop Leliveld (tel. 06-1781-6048) en Ton Groeneveld. Bij slecht weer gaat de fietstocht niet door.
URL:https://club50plusnoorden.nl/event/fietstocht-5/
LOCATION:Plein tegenover de kerk\, Simon van Capelweg 109C\, Noorden\, 2431AE\, Nederland
CATEGORIES:Activiteiten,Fietsen
END:VEVENT
BEGIN:VEVENT
DTSTART;TZID=Europe/Amsterdam:20260819T093000
DTEND;TZID=Europe/Amsterdam:20260819T123000
DTSTAMP:20260423T013135
CREATED:20251208T181256Z
LAST-MODIFIED:20251209T183047Z
UID:10001106-1787131800-1787142600@club50plusnoorden.nl
SUMMARY:Fietstocht
DESCRIPTION:Van maart tot en met oktober wordt er elke 3e woensdag van de maand een fietstocht georganiseerd.\nVertrek om 9.30 uur vanaf het plein tegenover de kerk. De route is iedere keer een verrassing.\nDe kosten zijn € 0\,50 per keer.\nDe organisatie is in handen van Joop Leliveld (tel. 06-1781-6048) en Ton Groeneveld. Bij slecht weer gaat de fietstocht niet door.
URL:https://club50plusnoorden.nl/event/fietstocht-6/
LOCATION:Plein tegenover de kerk\, Simon van Capelweg 109C\, Noorden\, 2431AE\, Nederland
CATEGORIES:Activiteiten,Fietsen
END:VEVENT
BEGIN:VEVENT
DTSTART;TZID=Europe/Amsterdam:20260907T193000
DTEND;TZID=Europe/Amsterdam:20260907T223000
DTSTAMP:20260423T013135
CREATED:20251208T180404Z
LAST-MODIFIED:20251209T182816Z
UID:10001093-1788809400-1788820200@club50plusnoorden.nl
SUMMARY:Klaverjassen
DESCRIPTION:U kunt om de week klaverjassen.\nKosten: € 2\,50 per keer\, incl. 2 kopjes koffie of thee en een hapje.\nVoor inlichtingen kunt u terecht bij: Thea Pietersen\, tel: 0172-408536
URL:https://club50plusnoorden.nl/event/klaverjassen-11/
LOCATION:De Rietzanger\, Theresiahof 9\, Noorden\, 2431AD
CATEGORIES:Activiteiten
END:VEVENT
BEGIN:VEVENT
DTSTART;TZID=Europe/Amsterdam:20260915T200000
DTEND;TZID=Europe/Amsterdam:20260915T223000
DTSTAMP:20260423T013135
CREATED:20251208T192257Z
LAST-MODIFIED:20260116T125947Z
UID:10001141-1789502400-1789511400@club50plusnoorden.nl
SUMMARY:KVN
DESCRIPTION:KVN is de Katholieke Vrouwenvereniging Noorden.\nEenmaal per maand is er een bijeenkomst met een leuke\, interessante en vooral gezellige activiteit.\nVoordat je besluit lid te worden\, mag je eerst vrijblijvend een paar avonden komen kijken.\nVoor meer informatie kan contact worden opgenomen met kvnnoorden@hotmail.com of geef ons een belletje.
URL:https://club50plusnoorden.nl/event/kvn-7/
LOCATION:De Rietzanger\, Theresiahof 9\, Noorden\, 2431AD
CATEGORIES:Activiteiten,KVN
END:VEVENT
BEGIN:VEVENT
DTSTART;TZID=Europe/Amsterdam:20260916T093000
DTEND;TZID=Europe/Amsterdam:20260916T123000
DTSTAMP:20260423T013135
CREATED:20251208T181312Z
LAST-MODIFIED:20251209T183047Z
UID:10001107-1789551000-1789561800@club50plusnoorden.nl
SUMMARY:Fietstocht
DESCRIPTION:Van maart tot en met oktober wordt er elke 3e woensdag van de maand een fietstocht georganiseerd.\nVertrek om 9.30 uur vanaf het plein tegenover de kerk. De route is iedere keer een verrassing.\nDe kosten zijn € 0\,50 per keer.\nDe organisatie is in handen van Joop Leliveld (tel. 06-1781-6048) en Ton Groeneveld. Bij slecht weer gaat de fietstocht niet door.
URL:https://club50plusnoorden.nl/event/fietstocht-7/
LOCATION:Plein tegenover de kerk\, Simon van Capelweg 109C\, Noorden\, 2431AE\, Nederland
CATEGORIES:Activiteiten,Fietsen
END:VEVENT
BEGIN:VEVENT
DTSTART;TZID=Europe/Amsterdam:20260916T140000
DTEND;TZID=Europe/Amsterdam:20260916T160000
DTSTAMP:20260423T013135
CREATED:20251120T100019Z
LAST-MODIFIED:20251209T182716Z
UID:10000976-1789567200-1789574400@club50plusnoorden.nl
SUMMARY:Bingo
DESCRIPTION:Een keer per maand wordt op woensdagmiddag bingo georganiseerd. Er worden 8 ronden bingo gespeeld. Kosten: 1 plankje: € 4.00 inclusief 2x koffie of thee.\nExtra plankje € 3\,00 per stuk. De bingomiddagen worden georganiseerd door Lia de Groot en Yvonne van Dijk.
URL:https://club50plusnoorden.nl/event/bingo-18/
LOCATION:De Rietzanger\, Theresiahof 9\, Noorden\, 2431AD
CATEGORIES:Activiteiten,Bingo
END:VEVENT
BEGIN:VEVENT
DTSTART;TZID=Europe/Amsterdam:20260918T090000
DTEND;TZID=Europe/Amsterdam:20260918T123000
DTSTAMP:20260423T013135
CREATED:20251208T190221Z
LAST-MODIFIED:20251209T183553Z
UID:10001127-1789722000-1789734600@club50plusnoorden.nl
SUMMARY:Themaochtend
DESCRIPTION:Viermaal per jaar wordt er een thema-ochtend georganiseerd.\nDe ochtend start om 9.00 met een eucharistieviering voor belangstellenden.\nRond 9.45 uur start het variabele gedeelte. Dit kan een informatiebijeenkomst zijn met een maatschappelijk thema of gewoon een gezellige activiteit.\nOm 12.00 uur is er – tegen een vergoeding – een gezamenlijke lunch.
URL:https://club50plusnoorden.nl/event/themaochtend-3/
LOCATION:De Rietzanger\, Theresiahof 9\, Noorden\, 2431AD
CATEGORIES:Activiteiten
END:VEVENT
BEGIN:VEVENT
DTSTART;TZID=Europe/Amsterdam:20260921T193000
DTEND;TZID=Europe/Amsterdam:20260921T223000
DTSTAMP:20260423T013135
CREATED:20251208T180422Z
LAST-MODIFIED:20251209T182816Z
UID:10001094-1790019000-1790029800@club50plusnoorden.nl
SUMMARY:Klaverjassen
DESCRIPTION:U kunt om de week klaverjassen.\nKosten: € 2\,50 per keer\, incl. 2 kopjes koffie of thee en een hapje.\nVoor inlichtingen kunt u terecht bij: Thea Pietersen\, tel: 0172-408536
URL:https://club50plusnoorden.nl/event/klaverjassen-12/
LOCATION:De Rietzanger\, Theresiahof 9\, Noorden\, 2431AD
CATEGORIES:Activiteiten
END:VEVENT
BEGIN:VEVENT
DTSTART;TZID=Europe/Amsterdam:20260929T193000
DTEND;TZID=Europe/Amsterdam:20260929T223000
DTSTAMP:20260423T013135
CREATED:20251208T181751Z
LAST-MODIFIED:20251209T183150Z
UID:10001115-1790710200-1790721000@club50plusnoorden.nl
SUMMARY:Keezen
DESCRIPTION:Iedere laatste dinsdagavond van de maand wordt er een Keezen-spelavond gehouden.\nInloop is vanaf 19:15 uur en het spel start om 19:30 uur.\nKosten: € 2\,00 inclusief 2 kopjes koffie of thee.\nDe organisatie is in handen van Anneke Kentrop (tel. 06-2383 3676) en Ria de Jong.
URL:https://club50plusnoorden.nl/event/keezen-7/
LOCATION:De Rietzanger\, Theresiahof 9\, Noorden\, 2431AD
CATEGORIES:Activiteiten
END:VEVENT
BEGIN:VEVENT
DTSTART;TZID=Europe/Amsterdam:20261005T193000
DTEND;TZID=Europe/Amsterdam:20261005T223000
DTSTAMP:20260423T013135
CREATED:20251208T180437Z
LAST-MODIFIED:20251209T182815Z
UID:10001095-1791228600-1791239400@club50plusnoorden.nl
SUMMARY:Klaverjassen
DESCRIPTION:U kunt om de week klaverjassen.\nKosten: € 2\,50 per keer\, incl. 2 kopjes koffie of thee en een hapje.\nVoor inlichtingen kunt u terecht bij: Thea Pietersen\, tel: 0172-408536
URL:https://club50plusnoorden.nl/event/klaverjassen-13/
LOCATION:De Rietzanger\, Theresiahof 9\, Noorden\, 2431AD
CATEGORIES:Activiteiten
END:VEVENT
BEGIN:VEVENT
DTSTART;TZID=Europe/Amsterdam:20261014T140000
DTEND;TZID=Europe/Amsterdam:20261014T160000
DTSTAMP:20260423T013135
CREATED:20251120T100051Z
LAST-MODIFIED:20251209T182716Z
UID:10000977-1791986400-1791993600@club50plusnoorden.nl
SUMMARY:Bingo
DESCRIPTION:Een keer per maand wordt op woensdagmiddag bingo georganiseerd. Er worden 8 ronden bingo gespeeld. Kosten: 1 plankje: € 4.00 inclusief 2x koffie of thee.\nExtra plankje € 3\,00 per stuk. De bingomiddagen worden georganiseerd door Lia de Groot en Yvonne van Dijk.
URL:https://club50plusnoorden.nl/event/bingo-19/
LOCATION:De Rietzanger\, Theresiahof 9\, Noorden\, 2431AD
CATEGORIES:Activiteiten,Bingo
END:VEVENT
BEGIN:VEVENT
DTSTART;TZID=Europe/Amsterdam:20261019T193000
DTEND;TZID=Europe/Amsterdam:20261019T223000
DTSTAMP:20260423T013135
CREATED:20251208T180536Z
LAST-MODIFIED:20251209T182815Z
UID:10001096-1792438200-1792449000@club50plusnoorden.nl
SUMMARY:Klaverjassen
DESCRIPTION:U kunt om de week klaverjassen.\nKosten: € 2\,50 per keer\, incl. 2 kopjes koffie of thee en een hapje.\nVoor inlichtingen kunt u terecht bij: Thea Pietersen\, tel: 0172-408536
URL:https://club50plusnoorden.nl/event/klaverjassen-14/
LOCATION:De Rietzanger\, Theresiahof 9\, Noorden\, 2431AD
CATEGORIES:Activiteiten
END:VEVENT
BEGIN:VEVENT
DTSTART;TZID=Europe/Amsterdam:20261020T200000
DTEND;TZID=Europe/Amsterdam:20261020T223000
DTSTAMP:20260423T013135
CREATED:20251208T192318Z
LAST-MODIFIED:20260116T125916Z
UID:10001142-1792526400-1792535400@club50plusnoorden.nl
SUMMARY:KVN
DESCRIPTION:KVN is de Katholieke Vrouwenvereniging Noorden.\nEenmaal per maand is er een bijeenkomst met een leuke\, interessante en vooral gezellige activiteit.\nVoordat je besluit lid te worden\, mag je eerst vrijblijvend een paar avonden komen kijken.\nVoor meer informatie kan contact worden opgenomen met kvnnoorden@hotmail.com of geef ons een belletje.
URL:https://club50plusnoorden.nl/event/kvn-8/
LOCATION:De Rietzanger\, Theresiahof 9\, Noorden\, 2431AD
CATEGORIES:Activiteiten,KVN
END:VEVENT
BEGIN:VEVENT
DTSTART;TZID=Europe/Amsterdam:20261021T093000
DTEND;TZID=Europe/Amsterdam:20261021T123000
DTSTAMP:20260423T013135
CREATED:20251208T181330Z
LAST-MODIFIED:20251209T183047Z
UID:10001108-1792575000-1792585800@club50plusnoorden.nl
SUMMARY:Fietstocht
DESCRIPTION:Van maart tot en met oktober wordt er elke 3e woensdag van de maand een fietstocht georganiseerd.\nVertrek om 9.30 uur vanaf het plein tegenover de kerk. De route is iedere keer een verrassing.\nDe kosten zijn € 0\,50 per keer.\nDe organisatie is in handen van Joop Leliveld (tel. 06-1781-6048) en Ton Groeneveld. Bij slecht weer gaat de fietstocht niet door.
URL:https://club50plusnoorden.nl/event/fietstocht-8/
LOCATION:Plein tegenover de kerk\, Simon van Capelweg 109C\, Noorden\, 2431AE\, Nederland
CATEGORIES:Activiteiten,Fietsen
END:VEVENT
END:VCALENDAR